BEGIN:VCALENDAR
VERSION:2.0
PRODID:-//Stadtmarketing Klosterneuburg - ECPv6.15.17.1//NONSGML v1.0//EN
CALSCALE:GREGORIAN
METHOD:PUBLISH
X-ORIGINAL-URL:https://www.stadtmarketing-klosterneuburg.at
X-WR-CALDESC:Veranstaltungen für Stadtmarketing Klosterneuburg
REFRESH-INTERVAL;VALUE=DURATION:PT1H
X-Robots-Tag:noindex
X-PUBLISHED-TTL:PT1H
BEGIN:VTIMEZONE
TZID:Europe/Vienna
BEGIN:DAYLIGHT
TZOFFSETFROM:+0100
TZOFFSETTO:+0200
TZNAME:CEST
DTSTART:20250330T010000
END:DAYLIGHT
BEGIN:STANDARD
TZOFFSETFROM:+0200
TZOFFSETTO:+0100
TZNAME:CET
DTSTART:20251026T010000
END:STANDARD
BEGIN:DAYLIGHT
TZOFFSETFROM:+0100
TZOFFSETTO:+0200
TZNAME:CEST
DTSTART:20260329T010000
END:DAYLIGHT
BEGIN:STANDARD
TZOFFSETFROM:+0200
TZOFFSETTO:+0100
TZNAME:CET
DTSTART:20261025T010000
END:STANDARD
BEGIN:DAYLIGHT
TZOFFSETFROM:+0100
TZOFFSETTO:+0200
TZNAME:CEST
DTSTART:20270328T010000
END:DAYLIGHT
BEGIN:STANDARD
TZOFFSETFROM:+0200
TZOFFSETTO:+0100
TZNAME:CET
DTSTART:20271031T010000
END:STANDARD
END:VTIMEZONE
BEGIN:VEVENT
DTSTART;TZID=Europe/Vienna:20260424T100000
DTEND;TZID=Europe/Vienna:20260424T180000
DTSTAMP:20260420T043942
CREATED:20260317T102655Z
LAST-MODIFIED:20260408T094925Z
UID:10045404-1777024800-1777053600@www.stadtmarketing-klosterneuburg.at
SUMMARY:Art Area im WKO-Innenhof
DESCRIPTION:Die Art Area lädt im stimmungsvollen Innenhof der WKO zum Verweilen\, Entdecken und Genießen ein.\nIn entspannter Atmosphäre präsentieren regionale Künstler:innen ihre Werke \nMit dabei:  Werner Szendi\, Sigrid Moschner\, Lisa Quixtner\, Veronika Junger\, Rudolf Schar\, Martina Reinhard\, David Hollauf\, Anna Böhler\, Claudiu Silvestru\, Andrea Goldemund. \nHier nähere Infos zu den Künstler:innen!\n  \nBesonderes Highlight für Kids:\nBasteltisch / 14 – 18 Uhr \n  \n@ frühlingserwachen
URL:https://www.stadtmarketing-klosterneuburg.at/veranstaltung/art-area-im-wko-innenhof-3/
LOCATION:Wirtschaftskammer NÖ – Außenstelle Klosterneuburg\, Rathausplatz 5\, Klosterneuburg\, Niederösterreich\, 3400\, Austria
CATEGORIES:Familien,Frühlingserwachen,Kinder,Kunst & Kultur
ATTACH;FMTTYPE=image/jpeg:https://www.stadtmarketing-klosterneuburg.at/wp-content/uploads/2025/04/Art-Area-c-ChatGPT.jpg
END:VEVENT
BEGIN:VEVENT
DTSTART;TZID=Europe/Vienna:20260425T100000
DTEND;TZID=Europe/Vienna:20260425T180000
DTSTAMP:20260420T043942
CREATED:20260317T104810Z
LAST-MODIFIED:20260408T094639Z
UID:10045405-1777111200-1777140000@www.stadtmarketing-klosterneuburg.at
SUMMARY:Art Area im WKO-Innenhof
DESCRIPTION:Die Art Area lädt im stimmungsvollen Innenhof der WKO zum Verweilen\, Entdecken und Genießen ein.\nIn entspannter Atmosphäre präsentieren regionale Künstler:innen ihre Werke \nMit dabei: Werner Szendi\, Sigrid Moschner\, Veronika Junger\, Martina Reinhard\, Ingo Eisenhut\, Helmut Sagmeister\, Elisabeth Micka\, Sylvia Ettlinger\, Sylvia Plach\, Ilse Vamusic\, Katja Reichert\, Sophie Vitovec\, Evgenia Karp\, Irmgard Haider. \nHier nähere Infos zu den Künstler:innen! \nBesonderes Highlight für Kids:\nBasteltisch / 14 – 18 Uhr \n  \n@ frühlingserwachen
URL:https://www.stadtmarketing-klosterneuburg.at/veranstaltung/art-area-im-wko-innenhof-4/
LOCATION:Wirtschaftskammer NÖ – Außenstelle Klosterneuburg\, Rathausplatz 5\, Klosterneuburg\, Niederösterreich\, 3400\, Austria
CATEGORIES:Familien,Frühlingserwachen,Kinder,Kunst & Kultur
ATTACH;FMTTYPE=image/jpeg:https://www.stadtmarketing-klosterneuburg.at/wp-content/uploads/2025/04/Art-Area-c-ChatGPT.jpg
END:VEVENT
END:VCALENDAR